BEGIN:VCALENDAR
VERSION:2.0
PRODID:https://www.kufer.de/kuferweb / DE
METHOD:PUBLISH
CALSCALE:GREGORIAN
X-WR-TIMEZONE:Europe/Berlin
BEGIN:VTIMEZONE
TZID:Europe/Berlin
X-LIC-LOCATION:Europe/Berlin
BEGIN:DAYLIGHT
TZOFFSETFROM:+0100
TZOFFSETTO:+0200
TZNAME:CEST
DTSTART:19700329T020000
RRULE:FREQ=YEARLY;INTERVAL=1;BYDAY=-1SU;BYMONTH=3
END:DAYLIGHT
BEGIN:STANDARD
TZOFFSETFROM:+0200
TZOFFSETTO:+0100
TZNAME:CET
DTSTART:19701025T030000
RRULE:FREQ=YEARLY;INTERVAL=1;BYDAY=-1SU;BYMONTH=10
END:STANDARD
END:VTIMEZONE
BEGIN:VEVENT
DTSTAMP:20260420T160854
DTSTART;TZID=Europe/Berlin:20250429T093000
DTEND;TZID=Europe/Berlin:20250429T103000
UID:25B0062-20250429T093000@HDFGEISLINGEN
SUMMARY:Rückbildungs-/Beckenbodengymnastik (25B0062) 
LOCATION:Haus der Familie, Raum 1, Gutenbergstr. 9, 73312 Geislingen/Steige
END:VEVENT
BEGIN:VEVENT
DTSTAMP:20260420T160854
DTSTART;TZID=Europe/Berlin:20250506T093000
DTEND;TZID=Europe/Berlin:20250506T103000
UID:25B0062-20250506T093000@HDFGEISLINGEN
SUMMARY:Rückbildungs-/Beckenbodengymnastik (25B0062) 
LOCATION:Haus der Familie, Raum 1, Gutenbergstr. 9, 73312 Geislingen/Steige
END:VEVENT
BEGIN:VEVENT
DTSTAMP:20260420T160854
DTSTART;TZID=Europe/Berlin:20250513T093000
DTEND;TZID=Europe/Berlin:20250513T103000
UID:25B0062-20250513T093000@HDFGEISLINGEN
SUMMARY:Rückbildungs-/Beckenbodengymnastik (25B0062) 
LOCATION:Haus der Familie, Raum 1, Gutenbergstr. 9, 73312 Geislingen/Steige
END:VEVENT
BEGIN:VEVENT
DTSTAMP:20260420T160854
DTSTART;TZID=Europe/Berlin:20250520T093000
DTEND;TZID=Europe/Berlin:20250520T103000
UID:25B0062-20250520T093000@HDFGEISLINGEN
SUMMARY:Rückbildungs-/Beckenbodengymnastik (25B0062) 
LOCATION:Haus der Familie, Raum 1, Gutenbergstr. 9, 73312 Geislingen/Steige
END:VEVENT
BEGIN:VEVENT
DTSTAMP:20260420T160854
DTSTART;TZID=Europe/Berlin:20250527T093000
DTEND;TZID=Europe/Berlin:20250527T103000
UID:25B0062-20250527T093000@HDFGEISLINGEN
SUMMARY:Rückbildungs-/Beckenbodengymnastik (25B0062) 
LOCATION:Haus der Familie, Raum 1, Gutenbergstr. 9, 73312 Geislingen/Steige
END:VEVENT
BEGIN:VEVENT
DTSTAMP:20260420T160854
DTSTART;TZID=Europe/Berlin:20250603T093000
DTEND;TZID=Europe/Berlin:20250603T103000
UID:25B0062-20250603T093000@HDFGEISLINGEN
SUMMARY:Rückbildungs-/Beckenbodengymnastik (25B0062) 
LOCATION:Haus der Familie, Raum 1, Gutenbergstr. 9, 73312 Geislingen/Steige
END:VEVENT
BEGIN:VEVENT
DTSTAMP:20260420T160854
DTSTART;TZID=Europe/Berlin:20250624T093000
DTEND;TZID=Europe/Berlin:20250624T103000
UID:25B0062-20250624T093000@HDFGEISLINGEN
DESCRIPTION:Ersatz für Ausfall am 10.06.2025
SUMMARY:Rückbildungs-/Beckenbodengymnastik (25B0062) 
LOCATION:Haus der Familie, Raum 1, Gutenbergstr. 9, 73312 Geislingen/Steige
END:VEVENT
BEGIN:VEVENT
DTSTAMP:20260420T160854
DTSTART;TZID=Europe/Berlin:20250701T093000
DTEND;TZID=Europe/Berlin:20250701T103000
UID:25B0062-20250701T093000@HDFGEISLINGEN
SUMMARY:Rückbildungs-/Beckenbodengymnastik (25B0062) 
LOCATION:Haus der Familie, Raum 1, Gutenbergstr. 9, 73312 Geislingen/Steige
END:VEVENT
BEGIN:VEVENT
DTSTAMP:20260420T160854
DTSTART;TZID=Europe/Berlin:20250708T093000
DTEND;TZID=Europe/Berlin:20250708T103000
UID:25B0062-20250708T093000@HDFGEISLINGEN
SUMMARY:Rückbildungs-/Beckenbodengymnastik (25B0062) 
LOCATION:Haus der Familie, Raum 1, Gutenbergstr. 9, 73312 Geislingen/Steige
END:VEVENT
BEGIN:VEVENT
DTSTAMP:20260420T160854
DTSTART;TZID=Europe/Berlin:20250715T093000
DTEND;TZID=Europe/Berlin:20250715T103000
UID:25B0062-20250715T093000@HDFGEISLINGEN
SUMMARY:Rückbildungs-/Beckenbodengymnastik (25B0062) 
LOCATION:Haus der Familie, Raum 1, Gutenbergstr. 9, 73312 Geislingen/Steige
END:VEVENT
END:VCALENDAR