BEGIN:VCALENDAR
VERSION:2.0
PRODID:https://www.kufer.de/kuferweb / DE
METHOD:PUBLISH
CALSCALE:GREGORIAN
X-WR-TIMEZONE:Europe/Berlin
BEGIN:VTIMEZONE
TZID:Europe/Berlin
X-LIC-LOCATION:Europe/Berlin
BEGIN:DAYLIGHT
TZOFFSETFROM:+0100
TZOFFSETTO:+0200
TZNAME:CEST
DTSTART:19700329T020000
RRULE:FREQ=YEARLY;INTERVAL=1;BYDAY=-1SU;BYMONTH=3
END:DAYLIGHT
BEGIN:STANDARD
TZOFFSETFROM:+0200
TZOFFSETTO:+0100
TZNAME:CET
DTSTART:19701025T030000
RRULE:FREQ=YEARLY;INTERVAL=1;BYDAY=-1SU;BYMONTH=10
END:STANDARD
END:VTIMEZONE
BEGIN:VEVENT
DTSTAMP:20260424T040903
DTSTART;TZID=Europe/Berlin:20260416T090000
DTEND;TZID=Europe/Berlin:20260416T103000
UID:26B1082-20260416T090000@HDFGEISLINGEN
SUMMARY:"Kleine Entdecker" - Geburtsmonate April  - September 2023 (26B1082) 
LOCATION:Haus der Familie, Raum 4, Gutenbergstr. 9, 73312 Geislingen/Steige
END:VEVENT
BEGIN:VEVENT
DTSTAMP:20260424T040903
DTSTART;TZID=Europe/Berlin:20260423T090000
DTEND;TZID=Europe/Berlin:20260423T103000
UID:26B1082-20260423T090000@HDFGEISLINGEN
SUMMARY:"Kleine Entdecker" - Geburtsmonate April  - September 2023 (26B1082) 
LOCATION:Haus der Familie, Raum 4, Gutenbergstr. 9, 73312 Geislingen/Steige
END:VEVENT
BEGIN:VEVENT
DTSTAMP:20260424T040903
DTSTART;TZID=Europe/Berlin:20260430T090000
DTEND;TZID=Europe/Berlin:20260430T103000
UID:26B1082-20260430T090000@HDFGEISLINGEN
SUMMARY:"Kleine Entdecker" - Geburtsmonate April  - September 2023 (26B1082) 
LOCATION:Haus der Familie, Raum 4, Gutenbergstr. 9, 73312 Geislingen/Steige
END:VEVENT
BEGIN:VEVENT
DTSTAMP:20260424T040903
DTSTART;TZID=Europe/Berlin:20260507T090000
DTEND;TZID=Europe/Berlin:20260507T103000
UID:26B1082-20260507T090000@HDFGEISLINGEN
SUMMARY:"Kleine Entdecker" - Geburtsmonate April  - September 2023 (26B1082) 
LOCATION:Haus der Familie, Raum 4, Gutenbergstr. 9, 73312 Geislingen/Steige
END:VEVENT
BEGIN:VEVENT
DTSTAMP:20260424T040903
DTSTART;TZID=Europe/Berlin:20260522T170000
DTEND;TZID=Europe/Berlin:20260522T183000
UID:26B1082-20260522T170000@HDFGEISLINGEN
SUMMARY:"Kleine Entdecker" - Geburtsmonate April  - September 2023 (26B1082) 
LOCATION:Haus der Familie, Raum 010, Gutenbergstr. 9, 73312 Geislingen/Steige
END:VEVENT
END:VCALENDAR